BEGIN:VCALENDAR
VERSION:2.0
PRODID:-//wp-events-plugin.com//7.2.3.1//EN
TZID:Europe/Helsinki
X-WR-TIMEZONE:Europe/Helsinki
BEGIN:VEVENT
UID:603@jaalanyt.fi
DTSTART;TZID=Europe/Helsinki:20230311T090000
DTEND;TZID=Europe/Helsinki:20230311T170000
DTSTAMP:20230216T153317Z
URL:https://jaalanyt.fi/events/hataensiapukoulutus-8h-ilmoittaudu-28-2-men
 nessa/
SUMMARY:Hätäensiapukoulutus 8h - ilmoittaudu 28.2. mennessä
DESCRIPTION:Hätäensiapukurssi 8h on suunnattu yli 15-vuotiaille ja mukaan
  mahtuu 15 osallistujaa. Opetuksesta vastaa T:mi MariMedin ensihoidon amma
 ttilainen Mari Laurema. Kurssin hinta on 40€/hlö (Jaalan kirkonkylän k
 yläyhdistyksen jäsenille 30€/hlö)\, sisältäen lounaan ja kahvit.\n\
 nIlmoittaudu mukaan jaalankk@gmail.com (nimi ja mahdolliset ruokarajoitte
 et) 28.2. mennessä. Vahvistamme ilmoittautumisen sähköpostitse ja saat 
 samalla maksutiedot.
ATTACH;FMTTYPE=image/jpeg:https://jaalanyt.fi/wp-content/uploads/2023/02/n
 imeton.jpg
CATEGORIES:Kurssit
LOCATION:Leiriranta\, Kallioistenniementie 155A\, Jaala\, 47710\, Suomi
X-APPLE-STRUCTURED-LOCATION;VALUE=URI;X-ADDRESS=Kallioistenniementie 155A\,
  Jaala\, 47710\, Suomi;X-APPLE-RADIUS=100;X-TITLE=Leiriranta:geo:0,0
END:VEVENT
BEGIN:VTIMEZONE
TZID:Europe/Helsinki
X-LIC-LOCATION:Europe/Helsinki
BEGIN:STANDARD
DTSTART:20221030T030000
TZOFFSETFROM:+0300
TZOFFSETTO:+0200
TZNAME:EET
END:STANDARD
END:VTIMEZONE
END:VCALENDAR